BEGIN:VCALENDAR
VERSION:2.0
PRODID:-//Live Your Life - ECPv6.3.1//NONSGML v1.0//EN
CALSCALE:GREGORIAN
METHOD:PUBLISH
X-ORIGINAL-URL:https://www.liveyourlife.jetzt
X-WR-CALDESC:Veranstaltungen für Live Your Life
REFRESH-INTERVAL;VALUE=DURATION:PT1H
X-Robots-Tag:noindex
X-PUBLISHED-TTL:PT1H
BEGIN:VTIMEZONE
TZID:UTC
BEGIN:STANDARD
TZOFFSETFROM:+0000
TZOFFSETTO:+0000
TZNAME:UTC
DTSTART:20240101T000000
END:STANDARD
END:VTIMEZONE
BEGIN:VEVENT
DTSTART;TZID=UTC:20240118T190000
DTEND;TZID=UTC:20240122T210000
DTSTAMP:20260425T130839
CREATED:20231205T154316Z
LAST-MODIFIED:20231209T065631Z
UID:6296-1705604400-1705957200@www.liveyourlife.jetzt
SUMMARY:Heilfasten und Feldenkrais®
DESCRIPTION:Beginne Dein neues Jahr mit den besten Voraussetzungen! \nDie einzigartige Kombination von Heilfasten mit den angenehmen\n„Bewusstheit durch Bewegung“ – Lektionen der Feldenkrais® Methode\nlassen diese Tage zu einem ganz besonderen Erlebnis für Dich werden! \nDein ganzes System bekommt die Möglichkeit\nsich selbst zu reparieren und zu reinigen.\nDeine Selbstwahrnehmung verbessert sich\,\nZentrierung\, Lebendigkeit und Klarheit\nentstehen leicht und wie von selbst. \nOnlinekurs\n18.1.24 – 22.1.24\njeweils 19:00 –21:00\nKosten: € 195.- Euro \nInfo zur Vorbereitung in der Woche davor. \nEs begleiten Dich: \nWilma Bürger\ndipl.Ernährungstrainerin & Fastenbegleiterin \nRalf Eggartner\nFeldenkrais®- Lehrer\, Physiotherapeut
URL:https://www.liveyourlife.jetzt/event/heilfasten-und-feldenkrais/
LOCATION:Online
ATTACH;FMTTYPE=image/jpeg:https://www.liveyourlife.jetzt/wp-content/uploads/2023/12/16-9-1-scaled.jpg
END:VEVENT
END:VCALENDAR