BEGIN:VCALENDAR
VERSION:2.0
PRODID:-//Live Your Life - ECPv6.3.1//NONSGML v1.0//EN
CALSCALE:GREGORIAN
METHOD:PUBLISH
X-ORIGINAL-URL:https://www.liveyourlife.jetzt
X-WR-CALDESC:Veranstaltungen für Live Your Life
REFRESH-INTERVAL;VALUE=DURATION:PT1H
X-Robots-Tag:noindex
X-PUBLISHED-TTL:PT1H
BEGIN:VTIMEZONE
TZID:UTC
BEGIN:STANDARD
TZOFFSETFROM:+0000
TZOFFSETTO:+0000
TZNAME:UTC
DTSTART:20240101T000000
END:STANDARD
END:VTIMEZONE
BEGIN:VEVENT
DTSTART;TZID=UTC:20240612T093000
DTEND;TZID=UTC:20240612T170000
DTSTAMP:20260423T060316
CREATED:20240215T103102Z
LAST-MODIFIED:20240304T095924Z
UID:6571-1718184600-1718211600@www.liveyourlife.jetzt
SUMMARY:Bogenschießen und Feldenkrais®
DESCRIPTION:Die Kunst des Bogenschießens! \nDu kommst ganz im Moment an\, spürst Dich mit jeder Faser\, alles wird eins: Der Bogen\, das Ziel\, Du selbst. \nEin fließender Wechsel zwischen Anleitung\, Ausprobieren und Experimentieren sowie perfekt abgestimmte Feldenkrais® Einheiten lassen Dich schnell tiefer in dieses ganzheitliche Erlebnis eintauchen. Deine Fertigkeiten und die Freude wachsen Schritt für Schritt. Präsenz\, Zentrierung und viel Lebendigkeit entstehen wie von selbst. \nUm eine otpimale und bestens abgestimmte Durchführung zu gewährleisten ist die Anzahl der Teilnehmer:innen\nauf nur 4 Personen beschränkt! \nOrt: \nPraxisgemeinschaft Salute\nTurracherstr. 24\, Feldkirchen\n \nTermin: \n12.6.2024\,  9:30 Uhr – 17 Uhr \nKostenbeitrag: \n240.- inkl. Material\, max. 4 Personen! \nVom Live YOUR Life Team begleiten Dich mit ganzem SEIN:\nChristian Hohenwarter\nPhysiotherapeut\, Bogenschütze \nRalf Eggartner\nFeldenkrais®- Lehrer\, Physiotherapeut \nFragen und Anmeldung bitte direkt an: info@liveyourlife.jetzt
URL:https://www.liveyourlife.jetzt/event/bogenschiessen-und-feldenkrais/
LOCATION:Praxis Salute\, Turracherstraße 24\, Feldkirchen\, Kärnten\, 9560\, Österreich
ATTACH;FMTTYPE=image/jpeg:https://www.liveyourlife.jetzt/wp-content/uploads/2024/02/Fam.-Hohenwarter-Bogenschiessen-47-scaled.jpg
END:VEVENT
END:VCALENDAR