BEGIN:VCALENDAR
VERSION:2.0
PRODID:-//Live Your Life - ECPv6.3.1//NONSGML v1.0//EN
CALSCALE:GREGORIAN
METHOD:PUBLISH
X-WR-CALNAME:Live Your Life
X-ORIGINAL-URL:https://www.liveyourlife.jetzt
X-WR-CALDESC:Veranstaltungen für Live Your Life
REFRESH-INTERVAL;VALUE=DURATION:PT1H
X-Robots-Tag:noindex
X-PUBLISHED-TTL:PT1H
BEGIN:VTIMEZONE
TZID:UTC
BEGIN:STANDARD
TZOFFSETFROM:+0000
TZOFFSETTO:+0000
TZNAME:UTC
DTSTART:20240101T000000
END:STANDARD
END:VTIMEZONE
BEGIN:VEVENT
DTSTART;TZID=UTC:20240615T093000
DTEND;TZID=UTC:20240615T170000
DTSTAMP:20260423T055411
CREATED:20231222T151723Z
LAST-MODIFIED:20240515T165616Z
UID:6446-1718443800-1718470800@www.liveyourlife.jetzt
SUMMARY:Feldenkrais® Pur - Ausdruck\, Stimme und innerer Ton
DESCRIPTION:Du verwendest sie jeden Tag\, Du drückst Dich aus\, teilst Dich mit\, sprichst\, schreist\, diskutierst\, weinst\, lachst\, singst\, … .\nDu verwendest Deine Stimme\, Deinen Stimm-Apparat in mannigfacher Weise. \nAber tust Du es so\, wie Du es ursprünglich gelernt hast? Wie es Dir entspricht?\nOder hat sich Dein Ausdruck\, Deine Stimme mit der Zeit angepasst und verändert?\nWeißt Du überhaupt um Dein großes Ausdruckspotential? \nMach Dich auf eine Reise und entdecke Dich dahingehend ganz neu.\nEine freundvolle Veränderung und neue Entdeckungen warten auf Dich. \nOrt: \nPraxisgemeinsschaft Salute\nTurracherstr. 24\, Feldkirchen \nTermin:\n15.6..2024\,  9:30 Uhr – 17 Uhr \nKostenbeitrag: \n125.- Euro \nVom Live Your Life Team begleitet Dich:\nRalf Eggartner\nFeldenkrais@- Lehrer\, Physiotherapeut \nFragen und Anmeldung bitte direkt an: info@liveyourlife.jetzt \n 
URL:https://www.liveyourlife.jetzt/event/feldenkrais-pur-ausdruck-stimme-und-innerer-ton/
LOCATION:Praxis Salute\, Turracherstraße 24\, Feldkirchen\, Kärnten\, 9560\, Österreich
ATTACH;FMTTYPE=image/jpeg:https://www.liveyourlife.jetzt/wp-content/uploads/2023/09/andrey-gulivanov-Tbdt6BeTCb0-unsplash-WEB.jpg
END:VEVENT
END:VCALENDAR