BEGIN:VCALENDAR
VERSION:2.0
PRODID:-//Live Your Life - ECPv6.3.1//NONSGML v1.0//EN
CALSCALE:GREGORIAN
METHOD:PUBLISH
X-ORIGINAL-URL:https://www.liveyourlife.jetzt
X-WR-CALDESC:Veranstaltungen für Live Your Life
REFRESH-INTERVAL;VALUE=DURATION:PT1H
X-Robots-Tag:noindex
X-PUBLISHED-TTL:PT1H
BEGIN:VTIMEZONE
TZID:UTC
BEGIN:STANDARD
TZOFFSETFROM:+0000
TZOFFSETTO:+0000
TZNAME:UTC
DTSTART:20240101T000000
END:STANDARD
END:VTIMEZONE
BEGIN:VEVENT
DTSTART;TZID=UTC:20240824T110000
DTEND;TZID=UTC:20240825T180000
DTSTAMP:20260423T002911
CREATED:20231214T144106Z
LAST-MODIFIED:20240304T095626Z
UID:6428-1724497200-1724608800@www.liveyourlife.jetzt
SUMMARY:Kajak und Feldenkrais®
DESCRIPTION:Du möchtest mit dem Kajak das Wasser und die wunderschöne Natur ganz intensiv erleben?\nUnd das alles mit noch mehr Bewusstheit\, Aufmerksamkeit und Lebendigkeit? \nDann ist dieses Wochenende genau das Richtige für Dich! \nDie freudigen und erlebnisreichen Zeiten am Fluss\, werden durch Feldenkrais®-Einheiten und Aufmerksamkeitsschulungen Deine Erfahrungen intensivieren und Dich noch mehr in den Flow bringen. \nEine geniale Wochenend-Kreation\, mit viel Feude im Element Wasser erwartet Dich! \nTermin:\nSamstag 24.8.2024 von 11 – 19 Uhr\nSonntag 25.8.2024 von 9 – 18 Uhr \nOrt: Wildalpen (Salza) \nKosten: 250.- Euro (exkl. Material und Unterkunft) \n\nVom Live YOUR Life Team begleiten Dich dabei von ganzem Herzen: \nPaul Weissbacher\nKajaklehrer\, Canyoning und Rafting Guide\, Sportler \nRalf Eggartner\nFeldenkrais®-Lehrer\, Physiotherapeut\, Gesundheitstrainer\, Naturliebhaber \nFragen und Anmeldung bitte direkt an: info@liveyourlife.jetzt
URL:https://www.liveyourlife.jetzt/event/kajak-und-feldenkrais/
ATTACH;FMTTYPE=image/jpeg:https://www.liveyourlife.jetzt/wp-content/uploads/2023/12/IMG-20210910-WA0016-300.jpg
END:VEVENT
END:VCALENDAR