BEGIN:VCALENDAR
VERSION:2.0
PRODID:-//Live Your Life - ECPv6.3.1//NONSGML v1.0//EN
CALSCALE:GREGORIAN
METHOD:PUBLISH
X-WR-CALNAME:Live Your Life
X-ORIGINAL-URL:https://www.liveyourlife.jetzt
X-WR-CALDESC:Veranstaltungen für Live Your Life
REFRESH-INTERVAL;VALUE=DURATION:PT1H
X-Robots-Tag:noindex
X-PUBLISHED-TTL:PT1H
BEGIN:VTIMEZONE
TZID:UTC
BEGIN:STANDARD
TZOFFSETFROM:+0000
TZOFFSETTO:+0000
TZNAME:UTC
DTSTART:20230101T000000
END:STANDARD
END:VTIMEZONE
BEGIN:VEVENT
DTSTART;TZID=UTC:20231211T190000
DTEND;TZID=UTC:20231211T200000
DTSTAMP:20260425T130745
CREATED:20231204T192805Z
LAST-MODIFIED:20231205T160520Z
UID:6283-1702321200-1702324800@www.liveyourlife.jetzt
SUMMARY:Feldenkrais® - Online Kurs
DESCRIPTION:Feldenkrais® Online Kurs\nJeden Montag von 19.00-20.00 Uhr.\nIn diesen Online-Sessions lernst Du Dich und Deinen Körper besser kennen\nund entdeckst neue\, harmonische\, innere Zusammenhänge.\nEinfach ausprobieren und die Erfahrung für sich sprechen lassen!\nSchicke uns ein email und wir senden Dir die Details zu.
URL:https://www.liveyourlife.jetzt/event/feldenkrais-online-kurs/
LOCATION:Online
ATTACH;FMTTYPE=image/jpeg:https://www.liveyourlife.jetzt/wp-content/uploads/2023/12/16-9-1-1-scaled.jpg
END:VEVENT
BEGIN:VEVENT
DTSTART;TZID=UTC:20231216T093000
DTEND;TZID=UTC:20231216T170000
DTSTAMP:20260425T130745
CREATED:20231210T164021Z
LAST-MODIFIED:20231210T164021Z
UID:6392-1702719000-1702746000@www.liveyourlife.jetzt
SUMMARY:Feldenkrais® Workshop in Feldkirchen
DESCRIPTION:Schenk Dir einen Tag der Begegnung mit Dir und erfahre\n\n– harmonischere\, leichtere\, freudigere Bewegungen\n– Zentrierung und innere Klarheit\n– mehr Ruhe und Ausgeglichenheit\n– mehr Lebendigkeit und Freude\n– Potentialentfaltung \n„Bewusstheit durch Bewegung“\n– behutsame\, wohltuende\, achtsam ausgeführte Bewegungen\n– meist am Boden\, aber auch im Sitzen/Stehen\n– nach den speziellen\, neurowissenschaftlichen\nGrundlagen der FELDENKRAIS® – Methode\n \nOrt:\nPraxis Salute\nTurracherstr. 24\, Feldkirchen \nTermin: \n16.12.2023\, 9:30 Uhr – 17 Uhr \nKostenbeitrag: \n120.-  Euro \nLeitung: Ralf Eggartner\nFeldenkrais@- Lehrer\, Physiotherapeut \n 
URL:https://www.liveyourlife.jetzt/event/feldenkrais-workshop-in-feldkirchen-2/
LOCATION:Praxis Salute\, Turracherstraße 24\, Feldkirchen\, Kärnten\, 9560\, Österreich
ATTACH;FMTTYPE=image/jpeg:https://www.liveyourlife.jetzt/wp-content/uploads/2023/12/simon-berger-twukN12EN7c-unsplash-scaled.jpg
END:VEVENT
END:VCALENDAR