BEGIN:VCALENDAR
VERSION:2.0
PRODID:-//Live Your Life - ECPv6.3.1//NONSGML v1.0//EN
CALSCALE:GREGORIAN
METHOD:PUBLISH
X-WR-CALNAME:Live Your Life
X-ORIGINAL-URL:https://www.liveyourlife.jetzt
X-WR-CALDESC:Veranstaltungen für Live Your Life
REFRESH-INTERVAL;VALUE=DURATION:PT1H
X-Robots-Tag:noindex
X-PUBLISHED-TTL:PT1H
BEGIN:VTIMEZONE
TZID:UTC
BEGIN:STANDARD
TZOFFSETFROM:+0000
TZOFFSETTO:+0000
TZNAME:UTC
DTSTART:20240101T000000
END:STANDARD
END:VTIMEZONE
BEGIN:VEVENT
DTSTART;TZID=UTC:20240424T173000
DTEND;TZID=UTC:20240424T210000
DTSTAMP:20260423T074931
CREATED:20240110T124503Z
LAST-MODIFIED:20240319T070107Z
UID:6465-1713979800-1713992400@www.liveyourlife.jetzt
SUMMARY:The beauty of climbing
DESCRIPTION:The beauty of climbing \nDu möchtest eine Route nicht nur irgendwie hinauf kommen sondern Dich dabei geschmeidig\, ganz präsent und frei\, fühlen?\nDu würdest gerne öfter Im Flow sein? \nThe beauty of climbing bringt die Essenz des Kletterns auf den Punkt:\nDer Weg ist das Ziel und damit die Bewegung selbst und das Sein im Jetzt.\nIn abgestimmten Sequenzen von Kletterpassagen einerseits und Wahrnehmungs- und Feldenkrais – Lektionen andererseits\, wirst Du nicht nur besser und flüssiger klettern: Du wirst Dich in den Bewegungen harmonischer\, leichter\, ganzer\, freudiger…fühlen und mehr im Flow sein. \nIm Moment\, ganz in der Schönheit der Bewegung wirst Du „The beauty of climbing“ allumfassend spüren. \nDie Kletterhalle Hermagor ist dafür exklusiv nur für uns reserviert! \nVom Live YOUR Life Team begleitet Dich dabei von ganzem Herzen:\nRalf Eggartner\nFELDENKRAIS®-Lehrer\, Instruktor Sport- und Alpinklettern\, Bergwanderführer \nDetailinfos:\nKletterhalle Hermagor\nvon 17:30 – 21 Uhr\nKostenbeitrag: 69.- (inkl. Eintritt)\nSolltest Du Kletterausrüstung benötigt wende Dich bitte unter 06507378412 an mich. \nFragen und Anmeldung bitte direkt an: info@liveyourlife.jetzt
URL:https://www.liveyourlife.jetzt/event/the-beauty-of-climbing/
LOCATION:Kletterzentrum Hermagor\, Hauptstraße\, Hermagor\, Kärnten\, 9620\, Österreich
ATTACH;FMTTYPE=image/jpeg:https://www.liveyourlife.jetzt/wp-content/uploads/2023/08/kyle-mills-ndObS9jhmKI-unsplash-WEB.jpg
END:VEVENT
BEGIN:VEVENT
DTSTART;TZID=UTC:20240426T170000
DTEND;TZID=UTC:20240426T200000
DTSTAMP:20260423T074931
CREATED:20240408T164700Z
LAST-MODIFIED:20240408T164700Z
UID:6804-1714150800-1714161600@www.liveyourlife.jetzt
SUMMARY:Feldenkrais® Workshop in Arriach
DESCRIPTION:Schenk Dir einen halben Tag der Begegnung mit Dir und erfahre\n\n– harmonischere\, leichtere\, freudigere Bewegungen\n– Zentrierung und innere Klarheit\n– mehr Ruhe und Ausgeglichenheit\n– mehr Lebendigkeit und Freude\n– Potentialentfaltung \n„Bewusstheit durch Bewegung“\n– behutsame\, wohltuende\, achtsam ausgeführte Bewegungen\n– meist am Boden\, aber auch im Sitzen/Stehen\n– nach den speziellen\, neurowissenschaftlichen\nGrundlagen der FELDENKRAIS® – Methode\n \nOrt:\nTurnsaal Arriach\n \nTermin: \n26.4.2024\, 17:00 Uhr – 20:00 Uhr \nKostenbeitrag:\n60.- Euro \nLeitung: Ralf Eggartner\nFeldenkrais@- Lehrer\, Physiotherapeut \nAnmeldung: info@liveyourlife.jetzt \n  \n 
URL:https://www.liveyourlife.jetzt/event/feldenkrais-workshop-in-arriach/
ATTACH;FMTTYPE=image/jpeg:https://www.liveyourlife.jetzt/wp-content/uploads/2023/12/simon-berger-twukN12EN7c-unsplash-scaled.jpg
END:VEVENT
BEGIN:VEVENT
DTSTART;TZID=UTC:20240427T093000
DTEND;TZID=UTC:20240427T170000
DTSTAMP:20260423T074931
CREATED:20231222T151244Z
LAST-MODIFIED:20240304T100351Z
UID:6443-1714210200-1714237200@www.liveyourlife.jetzt
SUMMARY:Feldenkrais® Pur - Bewege ich mich so wie ich mich fühle\, oder fühle ich mich so\, wie ich mich bewege?
DESCRIPTION:Bewegung und Gefühl sind seit unserer Geburt aufs innigste miteinander verbunden.\nIn diesem Seminar wirst Du diese Zusammenhänge neu erfahren und auf unterschiedlichen Ebenen\n– sowohl rational als auch körperlich – besser verstehen\, wie Deine Gefühle und Bewegungen zusammen hängen. \nUnd wäre das allein noch nicht genug:\nWir geben Dir auch Werkzeuge mit auf dem Weg\, damit Du bei Bedarf selbstwirksam\,\nliebevoll und klärend mit Dir umgehen kannst.\nDu wirst damit immer mehr zum Mitschöpfer Deiner Gefühls- und Bewegungswelt. \nWerde zum Gestalter Deiner selbst und Deines Lebens! \nOrt: \nPraxisgemeinsschaft Salute\nTurracherstr. 24\, Feldkirchen \nTermin: \n3.2.2024\,  9:30 Uhr – 17 Uhr \nKostenbeitrag: \n125.- Euro \nVom Live Your Life Team begleitet Dich:\nRalf Eggartner\nFeldenkrais@- Lehrer\, Physiotherapeut\, Impro-Spieler \nFragen und Anmeldung bitte direkt an: info@liveyourlife.jetzt
URL:https://www.liveyourlife.jetzt/event/feldenkraispur-bewege-ich-mich-so-wie-ich-mich-fuehle-oder-fuehle-ich-mich-so-wie-ich-mich-bewege/
LOCATION:Praxis Salute\, Turracherstraße 24\, Feldkirchen\, Kärnten\, 9560\, Österreich
ATTACH;FMTTYPE=image/jpeg:https://www.liveyourlife.jetzt/wp-content/uploads/2023/09/ahmad-odeh-KHipnBn7sdY-unsplash-WEB.jpg
END:VEVENT
END:VCALENDAR