BEGIN:VCALENDAR
VERSION:2.0
PRODID:-//Live Your Life - ECPv6.3.1//NONSGML v1.0//EN
CALSCALE:GREGORIAN
METHOD:PUBLISH
X-WR-CALNAME:Live Your Life
X-ORIGINAL-URL:https://www.liveyourlife.jetzt
X-WR-CALDESC:Veranstaltungen für Live Your Life
REFRESH-INTERVAL;VALUE=DURATION:PT1H
X-Robots-Tag:noindex
X-PUBLISHED-TTL:PT1H
BEGIN:VTIMEZONE
TZID:UTC
BEGIN:STANDARD
TZOFFSETFROM:+0000
TZOFFSETTO:+0000
TZNAME:UTC
DTSTART:20240101T000000
END:STANDARD
END:VTIMEZONE
BEGIN:VEVENT
DTSTART;TZID=UTC:20241001T102317
DTEND;TZID=UTC:20241001T102317
DTSTAMP:20260422T195210
CREATED:20240226T083242Z
LAST-MODIFIED:20241001T102317Z
UID:6667-1727778197-1727778197@www.liveyourlife.jetzt
SUMMARY:Spiritualität und Feldenkrais® im Kloster Wernberg
DESCRIPTION:Spiritualität und Feldenkrais® \n„Zeit um einzutauchen…\n…in Dich selbst und das große Ganze!“ \n„Bewusstheit durch Bewegung“ nannte Moshe Feldenkrais seine Gruppenstunden.\nDiese Bewusstheit bringt Dich in Kontakt mit tiefer liegenden Schichten Deines Selbst.\nSo entsteht der Rahmen um Deine eigene\, ganz individuelle Spiritualität zu erforschen.\nDiese Spiritualität wird als Fundament Deines Seins erfahrbar und spürbar. \nAblauf:\nGruppenstunden\, meist am Boden\, achtsam und aufmerksam ausgeführte Bewegungen\, die angenehm und wohltuend sind. Dazwischen Zeiten der Ruhe und Inspiration. \n\nVom Live YOUR Life Team begleitet Dich dabei von ganzem Herzen:\nRalf Eggartner\nFELDENKRAIS®-Lehrer\, Physiotherapeut\, Naturliebhaber\, Lebenskünstler\, spirituell Suchender und Findender \nTermin:\nin Planung \nOrt:\nKloster Wernberg\nKlosterweg 2\n9241 Wernberg\n\nKosten: \n170.- (exkl. Unterkunft und Verpflegung) \nAnfragen gerne per Email unter info@liveyourlife.jetzt.\nAnmeldungen direkt beim Kloster Wernberg unter gaeste-bildungshaus@klosterwernberg.at oder bei uns!
URL:https://www.liveyourlife.jetzt/event/spiritualitaet-und-feldenkrais-im-kloster-wernberg/
LOCATION:Kloster Wernberg\, Klosterweg 2\, Wernberg\, Kärnten\, 9241\, Österreich
ATTACH;FMTTYPE=image/jpeg:https://www.liveyourlife.jetzt/wp-content/uploads/2023/12/mor-shani-AyylJTi7k1w-unsplash-scaled.jpg
END:VEVENT
BEGIN:VEVENT
DTSTART;TZID=UTC:20241001T102438
DTEND;TZID=UTC:20241001T102438
DTSTAMP:20260422T195210
CREATED:20240111T144014Z
LAST-MODIFIED:20241001T102438Z
UID:6478-1727778278-1727778278@www.liveyourlife.jetzt
SUMMARY:Die Kraft der Tiere und Feldenkrais®
DESCRIPTION:Wie vertrittst Du Deinen Standpunkt?\nWelche Ziele verfolgst Du? \nWie setzt Du Dich durch\, wann passt Du Dich an?\nLebst Du DEIN Leben? \nUm Antworten und Lösungen nicht nur zu finden sondern auch zu erfahren\, nutzen wir in diesem Seminar die „Kraft der Tiere“! Die Qigong – Formen Bär\, Kranich\, Tiger und Schlange zeigen Dir Deine Wesensqualitäten.\nDamit wird Dir Dein aktuelles Verhalten bewusst und Du wirst mithilfe der „Kraft der Tiere“ zum Gestalter DEINES Lebens.\nGanz nach dem Motto: Dein Leib weiß alles\, nur die Seele muss sich neugierig erinnern wollen. \nVom Live YOUR Life Team begleiten Dich von ganzem Herzen:\nMartina Eggartner und Ralf Eggartner \nTermin:\n2025 in Planung \nOrt:\nSeminarhotel Flackl \nKostenbeitrag:\n330.- Euro (exl. Unterkunft/Verpflegung) \nAnmeldung bitte direkt an info@liveyourlife.jetzt\nZimmerreservierung bitte selbständig sobald als möglich beim „Flackl-Wirt“. \n 
URL:https://www.liveyourlife.jetzt/event/die-kraft-der-tiere-und-feldenkrais/
LOCATION:Seminarhaus Flackl\, Hinterleiten 12\, Reichenau an der Rax\, Niederösterreich\, 2651\, Österreich
ATTACH;FMTTYPE=image/jpeg:https://www.liveyourlife.jetzt/wp-content/uploads/2024/01/Kraft-der-Tiere-1-scaled.jpg
END:VEVENT
BEGIN:VEVENT
DTSTART;TZID=UTC:20241001T103953
DTEND;TZID=UTC:20241001T103953
DTSTAMP:20260422T195210
CREATED:20240226T075823Z
LAST-MODIFIED:20241001T103952Z
UID:6654-1727779193-1727779193@www.liveyourlife.jetzt
SUMMARY:Selbst - Bewusst - Sein
DESCRIPTION:Selbst! Bewusst! Sein! Selbstbewusstsein! \nVieles – ja wenn nicht alles – in deinem Leben hängt genau von diesen drei Worten ab. \nIn diesem Seminar gehen wir tief an die Wurzeln Deines Seins. Wer bist Du wirklich? Was willst Du wirklich? Mit Hilfe unterschiedlichster Techniken und der Feldenkrais® Methode erlebst Du Deine persönlichen Antworten und Wandlung findet statt. DEIN Leben passiert…jetzt! \nLass Dich von Julia Radlberger mit ihren einzigartigen Qualitäten und ihrer feinfühligen Persönlichkeit und Ralf Eggartner begleiten: Ganz zu Dir\, Dir selbst und DEINEM wahren Leben. \nTermin:\n21.2. – 23.2.2025 \nOrt und Details sind noch in Arbeit. \nAnmeldung bitte direkt an info@liveyourlife.jetzt
URL:https://www.liveyourlife.jetzt/event/selbst-bewusst-sein/
ATTACH;FMTTYPE=image/jpeg:https://www.liveyourlife.jetzt/wp-content/uploads/2023/09/Foto-Selbst-Bewusst-Sein-WEB.jpg
END:VEVENT
BEGIN:VEVENT
DTSTART;TZID=UTC:20241005T093000
DTEND;TZID=UTC:20241005T170000
DTSTAMP:20260422T195210
CREATED:20231222T152555Z
LAST-MODIFIED:20240915T115538Z
UID:6451-1728120600-1728147600@www.liveyourlife.jetzt
SUMMARY:Feldenkrais® Pur - Klarheit im Sehen
DESCRIPTION:Die Funktion der Augen\, der Zusammenhang mit dem ganzen Körper und\nunsere komplexe Wahrnehmung von uns selbst und der Umwelt\, stehen im Mittelpunkt dieses Workshops.\nWie siehst Du Dich? Wie nimmst Du Dich und Deine Umwelt wahr? \nKlareres Sehen und Wahrnehmen bringt gleichzeitig mehr Klarheit und Zentrierung in Dein Leben. \nFür alle\, die nicht nur die Funktion der Augen verbessern wollen\,\nsondern auch offen dafür sind\, in eine größere Erfahrungswelt einzutauchen. \nOrt: \nPraxis Salute\nTurracherstr. 24\, Feldkirchen \nTermin: \n5.10.2024\,  9:30 Uhr – 17 Uhr \nKostenbeitrag: \n125.- Euro \nVom Live Your Life Team begleitet Dich:\nRalf Eggartner\nFeldenkrais@- Lehrer\, Physiotherapeut \nFragen und Anmeldung bitte direkt an: info@liveyourlife.jetzt
URL:https://www.liveyourlife.jetzt/event/feldenkraispur-klarheit-im-sehen/
LOCATION:Praxis Salute\, Turracherstraße 24\, Feldkirchen\, Kärnten\, 9560\, Österreich
ATTACH;FMTTYPE=image/jpeg:https://www.liveyourlife.jetzt/wp-content/uploads/2023/09/6-WEB.jpg
END:VEVENT
BEGIN:VEVENT
DTSTART;TZID=UTC:20241006T093000
DTEND;TZID=UTC:20241006T170000
DTSTAMP:20260422T195210
CREATED:20231210T160659Z
LAST-MODIFIED:20240915T115642Z
UID:6372-1728207000-1728234000@www.liveyourlife.jetzt
SUMMARY:Improvisationstheater und Feldenkrais®
DESCRIPTION:Die Kunst des Augenblicks\nImprovisationstheater und Feldenkrais® \nEin Tagesworkshop für Einsteiger und Fortschreitende \nTheater ohne Text\, ohne Proben\, ohne Skript – aber mit viel Spannung\, Spaß und Überraschungen. \nIn diesem Workshop schaffen wir einen Raum in dem du auf spielerische Art und Weise in die Welt des spontanen Theaterspiels eintauchen kannst. \nUm unseren Körper einzustimmen\, integrieren wir auf feinsinnige Art und Weise\, speziell adaptierte Feldenkrais-Übungen in den Workshop. \nWir haben deine Neugierde geweckt? Dann melde dich sogleich an\, und betritt mit uns die Bühne deines Lebens! \nVom Live YOUR Life Team begleiten Dich dabei von ganzem Herzen:\nRalf Eggartner\nFELDENKRAIS®-Lehrer\, Impro-Spieler\, Hobby-Schauspieler \nThomas Nestler\nImpro-Spieler\, ehemaliger Rote-Nasen Clown\, Heldenreise-Leiter\, Wandercoaching \nKosten: 150.- €\nermäßigt: 99. – € \nFragen und Anmeldung bitte direkt an: info@liveyourlife.jetzt
URL:https://www.liveyourlife.jetzt/event/improvisationstheater-und-feldenkrais/
LOCATION:Hotel Schönruh\, Seeblickstraße 40\, Drobollach\, Kärnten\, 9580\, Österreich
ATTACH;FMTTYPE=image/jpeg:https://www.liveyourlife.jetzt/wp-content/uploads/2023/12/ryan-moreno-IcAtXrAZx8E-unsplash-300-scaled.jpg
END:VEVENT
BEGIN:VEVENT
DTSTART;TZID=UTC:20241011T180000
DTEND;TZID=UTC:20241013T140000
DTSTAMP:20260422T195210
CREATED:20231210T162545Z
LAST-MODIFIED:20240226T083332Z
UID:6381-1728669600-1728828000@www.liveyourlife.jetzt
SUMMARY:Spiritualität und Feldenkrais® im Haus der Stille
DESCRIPTION:Spiritualität und Feldenkrais® \n„Zeit um einzutauchen…\n…in Dich selbst und das große Ganze!“ \n„Bewusstheit durch Bewegung“ nannte Moshe Feldenkrais seine Gruppenstunden.\nDiese Bewusstheit bringt Dich in Kontakt mit tiefer liegenden Schichten Deines Selbst.\nSo entsteht der Rahmen um Deine eigene\, ganz individuelle Spiritualität zu erforschen.\nDiese Spiritualität wird als Fundament Deines Seins erfahrbar und spürbar. \nAblauf:\nGruppenstunden\, meist am Boden\, achtsam und aufmerksam ausgeführte Bewegungen\, die angenehm und wohltuend sind. Dazwischen Zeiten der Ruhe und Inspiration. \nVom Live YOUR Life Team begleitet Dich dabei von ganzem Herzen:\nRalf Eggartner\nFELDENKRAIS®-Lehrer\, Naturliebhaber\, Lebenskünstler\, spirituell Suchender und Findender \n  \nWeitere Infos und Anmeldung:\nhttps://www.haus-der-stille.at/veranstaltungen/zeit-um-einzutauchen-in-dich-selbst-und-das-grosse-ganze-2403/
URL:https://www.liveyourlife.jetzt/event/spiritulitaet-und-feldenkrais/
LOCATION:Haus der Stille\, Friedensplatz 1\, Heiligenkreuz am Waasen\, Steiermark\, 8081
ATTACH;FMTTYPE=image/jpeg:https://www.liveyourlife.jetzt/wp-content/uploads/2023/12/mor-shani-AyylJTi7k1w-unsplash-scaled.jpg
END:VEVENT
END:VCALENDAR